BEGIN:VCALENDAR
PRODID:-//Microsoft Corporation//Outlook 12.0 MIMEDIR//EN
VERSION:2.0
METHOD:PUBLISH
X-MS-OLK-FORCEINSPECTOROPEN:TRUE
BEGIN:VEVENT
CLASS:PUBLIC
CREATED:20260422T100323Z
DESCRIPTION:Katalena\n\nŽanr: etno in glasbe sveta / world music\n\nLokacija: Gledališče Tartini Piran, Piran\nZačetek: 10.04.2026 ob 19:30\n\nVeč informacij: https://www.facebook.com/events/1335629064653702
DTSTAMP:20260410T173000Z
DTSTART:20260410T173000Z
LAST-MODIFIED:20260422T100323Z
LOCATION:Gledališče Tartini Piran, Piran
PRIORITY:5
SEQUENCE:0
SUMMARY;LANGUAGE=sl-si:Katalena
TRANSP:OPAQUE
UID:69e880cbc8320
X-MICROSOFT-CDO-BUSYSTATUS:BUSY
X-MICROSOFT-CDO-IMPORTANCE:1
X-MICROSOFT-DISALLOW-COUNTER:FALSE
X-MS-OLK-ALLOWEXTERNCHECK:TRUE
X-MS-OLK-AUTOFILLLOCATION:FALSE
X-MS-OLK-CONFTYPE:0
BEGIN:VALARM
TRIGGER:-PT1440M
ACTION:DISPLAY
DESCRIPTION:Opomnik na dogodek
END:VALARM
END:VEVENT
END:VCALENDAR
