BEGIN:VCALENDAR
PRODID:-//Microsoft Corporation//Outlook 12.0 MIMEDIR//EN
VERSION:2.0
METHOD:PUBLISH
X-MS-OLK-FORCEINSPECTOROPEN:TRUE
BEGIN:VEVENT
CLASS:PUBLIC
CREATED:20260422T114444Z
DESCRIPTION:Edward Clug, Carl Orff: Carmina Burana\n\nŽanr: opera in glasbeno gledališče / opera and music theatre\n\nLokacija: SNG Opera in balet Maribor, Maribor\nZačetek: 03.04.2026 ob 19:30\n\nVeč informacij: https://www.sng-mb.si/event/carmina-burana/
DTSTAMP:20260403T173000Z
DTSTART:20260403T173000Z
LAST-MODIFIED:20260422T114444Z
LOCATION:SNG Opera in balet Maribor, Maribor
PRIORITY:5
SEQUENCE:0
SUMMARY;LANGUAGE=sl-si:Edward Clug, Carl Orff: Carmina Burana
TRANSP:OPAQUE
UID:69e8988c6cb0d
X-MICROSOFT-CDO-BUSYSTATUS:BUSY
X-MICROSOFT-CDO-IMPORTANCE:1
X-MICROSOFT-DISALLOW-COUNTER:FALSE
X-MS-OLK-ALLOWEXTERNCHECK:TRUE
X-MS-OLK-AUTOFILLLOCATION:FALSE
X-MS-OLK-CONFTYPE:0
BEGIN:VALARM
TRIGGER:-PT1440M
ACTION:DISPLAY
DESCRIPTION:Opomnik na dogodek
END:VALARM
END:VEVENT
END:VCALENDAR
