BEGIN:VCALENDAR
PRODID:-//Microsoft Corporation//Outlook 12.0 MIMEDIR//EN
VERSION:2.0
METHOD:PUBLISH
X-MS-OLK-FORCEINSPECTOROPEN:TRUE
BEGIN:VEVENT
CLASS:PUBLIC
CREATED:20260422T130926Z
DESCRIPTION:Pogovori s skladatelji: Igor Krivokapič\n\nŽanr: klasična / classical\n\nLokacija: Kogojeva dvorana DSS, Ljubljana\nZačetek: 08.04.2026 ob 19:30\n\nVeč informacij: https://www.dss.si/media/uploads/files/01-DSS-program-brosura-2025-26_objave.pdf
DTSTAMP:20260408T173000Z
DTSTART:20260408T173000Z
LAST-MODIFIED:20260422T130926Z
LOCATION:Kogojeva dvorana DSS, Ljubljana
PRIORITY:5
SEQUENCE:0
SUMMARY;LANGUAGE=sl-si:Pogovori s skladatelji: Igor Krivokapič
TRANSP:OPAQUE
UID:69e8ac66d2cb5
X-MICROSOFT-CDO-BUSYSTATUS:BUSY
X-MICROSOFT-CDO-IMPORTANCE:1
X-MICROSOFT-DISALLOW-COUNTER:FALSE
X-MS-OLK-ALLOWEXTERNCHECK:TRUE
X-MS-OLK-AUTOFILLLOCATION:FALSE
X-MS-OLK-CONFTYPE:0
BEGIN:VALARM
TRIGGER:-PT1440M
ACTION:DISPLAY
DESCRIPTION:Opomnik na dogodek
END:VALARM
END:VEVENT
END:VCALENDAR
