BEGIN:VCALENDAR
PRODID:-//Microsoft Corporation//Outlook 12.0 MIMEDIR//EN
VERSION:2.0
METHOD:PUBLISH
X-MS-OLK-FORCEINSPECTOROPEN:TRUE
BEGIN:VEVENT
CLASS:PUBLIC
CREATED:20260422T100323Z
DESCRIPTION:Piaf, Edith Piaf\n\nŽanr: popularna / popular\n\nLokacija: Linhartova dvorana Radovljica, Radovljica\nZačetek: 12.04.2026 ob 19:30\n\nVeč informacij: https://www.ld-radovljica.si/default.asp?mid=sl&pid=novice_podrobno&novicaid=1473&katid=51
DTSTAMP:20260412T173000Z
DTSTART:20260412T173000Z
LAST-MODIFIED:20260422T100323Z
LOCATION:Linhartova dvorana Radovljica, Radovljica
PRIORITY:5
SEQUENCE:0
SUMMARY;LANGUAGE=sl-si:Piaf, Edith Piaf
TRANSP:OPAQUE
UID:69e880cbb19cd
X-MICROSOFT-CDO-BUSYSTATUS:BUSY
X-MICROSOFT-CDO-IMPORTANCE:1
X-MICROSOFT-DISALLOW-COUNTER:FALSE
X-MS-OLK-ALLOWEXTERNCHECK:TRUE
X-MS-OLK-AUTOFILLLOCATION:FALSE
X-MS-OLK-CONFTYPE:0
BEGIN:VALARM
TRIGGER:-PT1440M
ACTION:DISPLAY
DESCRIPTION:Opomnik na dogodek
END:VALARM
END:VEVENT
END:VCALENDAR
