BEGIN:VCALENDAR
PRODID:-//Microsoft Corporation//Outlook 12.0 MIMEDIR//EN
VERSION:2.0
METHOD:PUBLISH
X-MS-OLK-FORCEINSPECTOROPEN:TRUE
BEGIN:VEVENT
CLASS:PUBLIC
CREATED:20260422T114613Z
DESCRIPTION:Ensamble 4Saxess\n\nŽanr: klasična / classical\n\nLokacija: Glasbena šola Velenje, Velenje\nZačetek: 07.04.2026 ob 19:30\n\nVeč informacij: https://www.facebook.com/events/1427946618316299/
DTSTAMP:20260407T173000Z
DTSTART:20260407T173000Z
LAST-MODIFIED:20260422T114613Z
LOCATION:Glasbena šola Velenje, Velenje
PRIORITY:5
SEQUENCE:0
SUMMARY;LANGUAGE=sl-si:Ensamble 4Saxess
TRANSP:OPAQUE
UID:69e898e52a857
X-MICROSOFT-CDO-BUSYSTATUS:BUSY
X-MICROSOFT-CDO-IMPORTANCE:1
X-MICROSOFT-DISALLOW-COUNTER:FALSE
X-MS-OLK-ALLOWEXTERNCHECK:TRUE
X-MS-OLK-AUTOFILLLOCATION:FALSE
X-MS-OLK-CONFTYPE:0
BEGIN:VALARM
TRIGGER:-PT1440M
ACTION:DISPLAY
DESCRIPTION:Opomnik na dogodek
END:VALARM
END:VEVENT
END:VCALENDAR
