BEGIN:VCALENDAR
PRODID:-//Microsoft Corporation//Outlook 12.0 MIMEDIR//EN
VERSION:2.0
METHOD:PUBLISH
X-MS-OLK-FORCEINSPECTOROPEN:TRUE
BEGIN:VEVENT
CLASS:PUBLIC
CREATED:20260422T130744Z
DESCRIPTION:Klavir in jaz: Jan Sever\n\nŽanr: klasična / classical\n\nLokacija: Dvorana Union, Maribor\nZačetek: 09.04.2026 ob 15:00\n\nVeč informacij: https://nd-mb.si/dogodek/klavir-in-jaz/
DTSTAMP:20260409T130000Z
DTSTART:20260409T130000Z
LAST-MODIFIED:20260422T130744Z
LOCATION:Dvorana Union, Maribor
PRIORITY:5
SEQUENCE:0
SUMMARY;LANGUAGE=sl-si:Klavir in jaz: Jan Sever
TRANSP:OPAQUE
UID:69e8ac00ac1b1
X-MICROSOFT-CDO-BUSYSTATUS:BUSY
X-MICROSOFT-CDO-IMPORTANCE:1
X-MICROSOFT-DISALLOW-COUNTER:FALSE
X-MS-OLK-ALLOWEXTERNCHECK:TRUE
X-MS-OLK-AUTOFILLLOCATION:FALSE
X-MS-OLK-CONFTYPE:0
BEGIN:VALARM
TRIGGER:-PT1440M
ACTION:DISPLAY
DESCRIPTION:Opomnik na dogodek
END:VALARM
END:VEVENT
END:VCALENDAR
