BEGIN:VCALENDAR
PRODID:-//Microsoft Corporation//Outlook 12.0 MIMEDIR//EN
VERSION:2.0
METHOD:PUBLISH
X-MS-OLK-FORCEINSPECTOROPEN:TRUE
BEGIN:VEVENT
CLASS:PUBLIC
CREATED:20260422T114547Z
DESCRIPTION:ŠentRock: Siddharta / Zmelkoow\n\nŽanr: popularna / popular\n\nLokacija: Šentjur\nZačetek: 25.04.2026 ob 20:00\n\nVeč informacij: https://www.facebook.com/events/1377109560624672/
DTSTAMP:20260425T180000Z
DTSTART:20260425T180000Z
LAST-MODIFIED:20260422T114547Z
LOCATION:Šentjur
PRIORITY:5
SEQUENCE:0
SUMMARY;LANGUAGE=sl-si:ŠentRock: Siddharta / Zmelkoow
TRANSP:OPAQUE
UID:69e898cb7f812
X-MICROSOFT-CDO-BUSYSTATUS:BUSY
X-MICROSOFT-CDO-IMPORTANCE:1
X-MICROSOFT-DISALLOW-COUNTER:FALSE
X-MS-OLK-ALLOWEXTERNCHECK:TRUE
X-MS-OLK-AUTOFILLLOCATION:FALSE
X-MS-OLK-CONFTYPE:0
BEGIN:VALARM
TRIGGER:-PT1440M
ACTION:DISPLAY
DESCRIPTION:Opomnik na dogodek
END:VALARM
END:VEVENT
END:VCALENDAR
