BEGIN:VCALENDAR
PRODID:-//Microsoft Corporation//Outlook 12.0 MIMEDIR//EN
VERSION:2.0
METHOD:PUBLISH
X-MS-OLK-FORCEINSPECTOROPEN:TRUE
BEGIN:VEVENT
CLASS:PUBLIC
CREATED:20260422T130745Z
DESCRIPTION:Big Band RTV Slovenija &amp; Lojze Krajnčan: Štiri desetletja ustvarjalne poti\n\nŽanr: jazz\n\nLokacija: Cankarjev dom, Ljubljana\nZačetek: 02.04.2026 ob 20:00\n\nVeč informacij: https://www.cd-cc.si/kultura/glasba/big-band-rtv-slovenija-lojze-krajncan-stiri-desetletja-ustvarjalne-poti
DTSTAMP:20260402T180000Z
DTSTART:20260402T180000Z
LAST-MODIFIED:20260422T130745Z
LOCATION:Cankarjev dom, Ljubljana
PRIORITY:5
SEQUENCE:0
SUMMARY;LANGUAGE=sl-si:Big Band RTV Slovenija &amp; Lojze Krajnčan: Štiri desetletja ustvarjalne poti
TRANSP:OPAQUE
UID:69e8ac0135476
X-MICROSOFT-CDO-BUSYSTATUS:BUSY
X-MICROSOFT-CDO-IMPORTANCE:1
X-MICROSOFT-DISALLOW-COUNTER:FALSE
X-MS-OLK-ALLOWEXTERNCHECK:TRUE
X-MS-OLK-AUTOFILLLOCATION:FALSE
X-MS-OLK-CONFTYPE:0
BEGIN:VALARM
TRIGGER:-PT1440M
ACTION:DISPLAY
DESCRIPTION:Opomnik na dogodek
END:VALARM
END:VEVENT
END:VCALENDAR
