BEGIN:VCALENDAR
PRODID:-//Microsoft Corporation//Outlook 12.0 MIMEDIR//EN
VERSION:2.0
METHOD:PUBLISH
X-MS-OLK-FORCEINSPECTOROPEN:TRUE
BEGIN:VEVENT
CLASS:PUBLIC
CREATED:20260422T130925Z
DESCRIPTION:Orto Fest 2026: Vacuous / Siderean / Bastard Mycosis\n\nŽanr: popularna / popular\n\nLokacija: Orto bar, Ljubljana\nZačetek: 12.04.2026 ob 19:00\n\nVeč informacij: https://www.orto-bar.com/dogodki/koncerti/orto-fest-2026-vacuous-siderean-bastard-mycosis/
DTSTAMP:20260412T170000Z
DTSTART:20260412T170000Z
LAST-MODIFIED:20260422T130925Z
LOCATION:Orto bar, Ljubljana
PRIORITY:5
SEQUENCE:0
SUMMARY;LANGUAGE=sl-si:Orto Fest 2026: Vacuous / Siderean / Bastard Mycosis
TRANSP:OPAQUE
UID:69e8ac655e476
X-MICROSOFT-CDO-BUSYSTATUS:BUSY
X-MICROSOFT-CDO-IMPORTANCE:1
X-MICROSOFT-DISALLOW-COUNTER:FALSE
X-MS-OLK-ALLOWEXTERNCHECK:TRUE
X-MS-OLK-AUTOFILLLOCATION:FALSE
X-MS-OLK-CONFTYPE:0
BEGIN:VALARM
TRIGGER:-PT1440M
ACTION:DISPLAY
DESCRIPTION:Opomnik na dogodek
END:VALARM
END:VEVENT
END:VCALENDAR
