BEGIN:VCALENDAR
PRODID:-//Microsoft Corporation//Outlook 12.0 MIMEDIR//EN
VERSION:2.0
METHOD:PUBLISH
X-MS-OLK-FORCEINSPECTOROPEN:TRUE
BEGIN:VEVENT
CLASS:PUBLIC
CREATED:20260422T100552Z
DESCRIPTION:Kačis (odpovedano)\n\nŽanr: etno in glasbe sveta / world music\n\nLokacija: Klub Štala, Lokavec\nZačetek: 10.04.2026 ob 20:00\n\nVeč informacij: https://www.kudkussa.com/dogodkievents.html
DTSTAMP:20260410T180000Z
DTSTART:20260410T180000Z
LAST-MODIFIED:20260422T100552Z
LOCATION:Klub Štala, Lokavec
PRIORITY:5
SEQUENCE:0
SUMMARY;LANGUAGE=sl-si:Kačis (odpovedano)
TRANSP:OPAQUE
UID:69e88160a8dec
X-MICROSOFT-CDO-BUSYSTATUS:BUSY
X-MICROSOFT-CDO-IMPORTANCE:1
X-MICROSOFT-DISALLOW-COUNTER:FALSE
X-MS-OLK-ALLOWEXTERNCHECK:TRUE
X-MS-OLK-AUTOFILLLOCATION:FALSE
X-MS-OLK-CONFTYPE:0
BEGIN:VALARM
TRIGGER:-PT1440M
ACTION:DISPLAY
DESCRIPTION:Opomnik na dogodek
END:VALARM
END:VEVENT
END:VCALENDAR
