BEGIN:VCALENDAR
PRODID:-//Microsoft Corporation//Outlook 12.0 MIMEDIR//EN
VERSION:2.0
METHOD:PUBLISH
X-MS-OLK-FORCEINSPECTOROPEN:TRUE
BEGIN:VEVENT
CLASS:PUBLIC
CREATED:20260422T114322Z
DESCRIPTION:Martin Küchen, Andrej Kobal in Gal Furlan trio\n\nŽanr: impro in eksperimentalna / impro and experimental\n\nLokacija: Klub Štala, Lokavec\nZačetek: 16.04.2026 ob 20:00\n\nVeč informacij: https://www.kudkussa.com/dogodkievents.html
DTSTAMP:20260416T180000Z
DTSTART:20260416T180000Z
LAST-MODIFIED:20260422T114322Z
LOCATION:Klub Štala, Lokavec
PRIORITY:5
SEQUENCE:0
SUMMARY;LANGUAGE=sl-si:Martin Küchen, Andrej Kobal in Gal Furlan trio
TRANSP:OPAQUE
UID:69e8983aab058
X-MICROSOFT-CDO-BUSYSTATUS:BUSY
X-MICROSOFT-CDO-IMPORTANCE:1
X-MICROSOFT-DISALLOW-COUNTER:FALSE
X-MS-OLK-ALLOWEXTERNCHECK:TRUE
X-MS-OLK-AUTOFILLLOCATION:FALSE
X-MS-OLK-CONFTYPE:0
BEGIN:VALARM
TRIGGER:-PT1440M
ACTION:DISPLAY
DESCRIPTION:Opomnik na dogodek
END:VALARM
END:VEVENT
END:VCALENDAR
