BEGIN:VCALENDAR
PRODID:-//Microsoft Corporation//Outlook 12.0 MIMEDIR//EN
VERSION:2.0
METHOD:PUBLISH
X-MS-OLK-FORCEINSPECTOROPEN:TRUE
BEGIN:VEVENT
CLASS:PUBLIC
CREATED:20260422T131151Z
DESCRIPTION:Hišni ansambel Avsenik\n\nŽanr: narodnozabavna / folk-pop\n\nLokacija: Gostilna in restavracija Avsenik, Begunje na Gorenjskem\nDatum: 10.04.2026\n\nVeč informacij: https://www.avsenik.com/produkt/hisni-ansambel-avsenik-10-april
DTSTAMP:20260410
DTSTART:20260410
LAST-MODIFIED:20260422T131151Z
LOCATION:Gostilna in restavracija Avsenik, Begunje na Gorenjskem
PRIORITY:5
SEQUENCE:0
SUMMARY;LANGUAGE=sl-si:Hišni ansambel Avsenik
TRANSP:OPAQUE
UID:69e8acf79cf28
X-MICROSOFT-CDO-BUSYSTATUS:BUSY
X-MICROSOFT-CDO-IMPORTANCE:1
X-MICROSOFT-DISALLOW-COUNTER:FALSE
X-MS-OLK-ALLOWEXTERNCHECK:TRUE
X-MS-OLK-AUTOFILLLOCATION:FALSE
X-MS-OLK-CONFTYPE:0
BEGIN:VALARM
TRIGGER:-PT1440M
ACTION:DISPLAY
DESCRIPTION:Opomnik na dogodek
END:VALARM
END:VEVENT
END:VCALENDAR
