BEGIN:VCALENDAR
PRODID:-//Microsoft Corporation//Outlook 12.0 MIMEDIR//EN
VERSION:2.0
METHOD:PUBLISH
X-MS-OLK-FORCEINSPECTOROPEN:TRUE
BEGIN:VEVENT
CLASS:PUBLIC
CREATED:20260422T100515Z
DESCRIPTION:Ansambel Saša Avsenika - gost: Gregor Avsenik\n\nŽanr: narodnozabavna / folk-pop\n\nLokacija: Gostilna in restavracija Avsenik, Begunje na Gorenjskem\nZačetek: 15.04.2026 ob 19:00\n\nVeč informacij: https://www.avsenik.com/produkt/ansambel-sasa-avsenika-gost-gregor-avsenik-15-april
DTSTAMP:20260415T170000Z
DTSTART:20260415T170000Z
LAST-MODIFIED:20260422T100515Z
LOCATION:Gostilna in restavracija Avsenik, Begunje na Gorenjskem
PRIORITY:5
SEQUENCE:0
SUMMARY;LANGUAGE=sl-si:Ansambel Saša Avsenika - gost: Gregor Avsenik
TRANSP:OPAQUE
UID:69e8813ba6652
X-MICROSOFT-CDO-BUSYSTATUS:BUSY
X-MICROSOFT-CDO-IMPORTANCE:1
X-MICROSOFT-DISALLOW-COUNTER:FALSE
X-MS-OLK-ALLOWEXTERNCHECK:TRUE
X-MS-OLK-AUTOFILLLOCATION:FALSE
X-MS-OLK-CONFTYPE:0
BEGIN:VALARM
TRIGGER:-PT1440M
ACTION:DISPLAY
DESCRIPTION:Opomnik na dogodek
END:VALARM
END:VEVENT
END:VCALENDAR
