BEGIN:VCALENDAR
PRODID:-//Microsoft Corporation//Outlook 12.0 MIMEDIR//EN
VERSION:2.0
METHOD:PUBLISH
X-MS-OLK-FORCEINSPECTOROPEN:TRUE
BEGIN:VEVENT
CLASS:PUBLIC
CREATED:20260422T144806Z
DESCRIPTION:Ansambel Svizci\n\nŽanr: narodnozabavna / folk-pop\n\nLokacija: Gostilna in restavracija Avsenik, Begunje na Gorenjskem\nZačetek: 17.04.2026 ob 19:00\n\nVeč informacij: https://www.avsenik.com/produkt/ansambel-svizci-17-april
DTSTAMP:20260417T170000Z
DTSTART:20260417T170000Z
LAST-MODIFIED:20260422T144806Z
LOCATION:Gostilna in restavracija Avsenik, Begunje na Gorenjskem
PRIORITY:5
SEQUENCE:0
SUMMARY;LANGUAGE=sl-si:Ansambel Svizci
TRANSP:OPAQUE
UID:69e8c3861974c
X-MICROSOFT-CDO-BUSYSTATUS:BUSY
X-MICROSOFT-CDO-IMPORTANCE:1
X-MICROSOFT-DISALLOW-COUNTER:FALSE
X-MS-OLK-ALLOWEXTERNCHECK:TRUE
X-MS-OLK-AUTOFILLLOCATION:FALSE
X-MS-OLK-CONFTYPE:0
BEGIN:VALARM
TRIGGER:-PT1440M
ACTION:DISPLAY
DESCRIPTION:Opomnik na dogodek
END:VALARM
END:VEVENT
END:VCALENDAR
