BEGIN:VCALENDAR
PRODID:-//Microsoft Corporation//Outlook 12.0 MIMEDIR//EN
VERSION:2.0
METHOD:PUBLISH
X-MS-OLK-FORCEINSPECTOROPEN:TRUE
BEGIN:VEVENT
CLASS:PUBLIC
CREATED:20260422T130713Z
DESCRIPTION:V etru pesem: V razkošni sreči\n\nŽanr: klasična / classical\n\nLokacija: Viteška dvorana Križank, Ljubljana\nZačetek: 19.04.2026 ob 19:30\n\nVeč informacij: https://www.glasbenamatica.si/koncerti/v-razkosni-sreci/
DTSTAMP:20260419T173000Z
DTSTART:20260419T173000Z
LAST-MODIFIED:20260422T130713Z
LOCATION:Viteška dvorana Križank, Ljubljana
PRIORITY:5
SEQUENCE:0
SUMMARY;LANGUAGE=sl-si:V etru pesem: V razkošni sreči
TRANSP:OPAQUE
UID:69e8abe14f028
X-MICROSOFT-CDO-BUSYSTATUS:BUSY
X-MICROSOFT-CDO-IMPORTANCE:1
X-MICROSOFT-DISALLOW-COUNTER:FALSE
X-MS-OLK-ALLOWEXTERNCHECK:TRUE
X-MS-OLK-AUTOFILLLOCATION:FALSE
X-MS-OLK-CONFTYPE:0
BEGIN:VALARM
TRIGGER:-PT1440M
ACTION:DISPLAY
DESCRIPTION:Opomnik na dogodek
END:VALARM
END:VEVENT
END:VCALENDAR
