BEGIN:VCALENDAR
PRODID:-//Microsoft Corporation//Outlook 12.0 MIMEDIR//EN
VERSION:2.0
METHOD:PUBLISH
X-MS-OLK-FORCEINSPECTOROPEN:TRUE
BEGIN:VEVENT
CLASS:PUBLIC
CREATED:20260422T131117Z
DESCRIPTION:Orto Fest: Noctiferia\n\nŽanr: popularna / popular\n\nLokacija: Orto bar, Ljubljana\nZačetek: 18.04.2026 ob 20:00\n\nVeč informacij: https://www.facebook.com/events/914075651306431/?acontext=%7B%22event_action_history%22%3A[%7B%22surface%22%3A%22home%22%7D%2C%7B%22mechanism%22%3A%22attachment%22%2C%22surface%22%3A%22newsfeed%22%7D]%2C%22ref_notif_type%22%3Anull%7D
DTSTAMP:20260418T180000Z
DTSTART:20260418T180000Z
LAST-MODIFIED:20260422T131117Z
LOCATION:Orto bar, Ljubljana
PRIORITY:5
SEQUENCE:0
SUMMARY;LANGUAGE=sl-si:Orto Fest: Noctiferia
TRANSP:OPAQUE
UID:69e8acd51e75c
X-MICROSOFT-CDO-BUSYSTATUS:BUSY
X-MICROSOFT-CDO-IMPORTANCE:1
X-MICROSOFT-DISALLOW-COUNTER:FALSE
X-MS-OLK-ALLOWEXTERNCHECK:TRUE
X-MS-OLK-AUTOFILLLOCATION:FALSE
X-MS-OLK-CONFTYPE:0
BEGIN:VALARM
TRIGGER:-PT1440M
ACTION:DISPLAY
DESCRIPTION:Opomnik na dogodek
END:VALARM
END:VEVENT
END:VCALENDAR
