BEGIN:VCALENDAR
PRODID:-//Microsoft Corporation//Outlook 12.0 MIMEDIR//EN
VERSION:2.0
METHOD:PUBLISH
X-MS-OLK-FORCEINSPECTOROPEN:TRUE
BEGIN:VEVENT
CLASS:PUBLIC
CREATED:20260422T101144Z
DESCRIPTION:Počeni škafi\n\nŽanr: popularna / popular\n\nLokacija: Dom kulture Šentvid pri Stični\nZačetek: 10.04.2026 ob 20:00\n\nVeč informacij: https://www.facebook.com/events/1581470786322723/?acontext=%7B%22ref%22%3A%2252%22%2C%22action_history%22%3A%22[%7B%5C%22surface%5C%22%3A%5C%22share_link%5C%22%2C%5C%22mechanism%5C%22%3A%5C%22share_link%5C%22%2C%5C%22extra_data%5C%22%3A%7B%5C%22invite_lin
DTSTAMP:20260410T180000Z
DTSTART:20260410T180000Z
LAST-MODIFIED:20260422T101144Z
LOCATION:Dom kulture Šentvid pri Stični
PRIORITY:5
SEQUENCE:0
SUMMARY;LANGUAGE=sl-si:Počeni škafi
TRANSP:OPAQUE
UID:69e882c041a7d
X-MICROSOFT-CDO-BUSYSTATUS:BUSY
X-MICROSOFT-CDO-IMPORTANCE:1
X-MICROSOFT-DISALLOW-COUNTER:FALSE
X-MS-OLK-ALLOWEXTERNCHECK:TRUE
X-MS-OLK-AUTOFILLLOCATION:FALSE
X-MS-OLK-CONFTYPE:0
BEGIN:VALARM
TRIGGER:-PT1440M
ACTION:DISPLAY
DESCRIPTION:Opomnik na dogodek
END:VALARM
END:VEVENT
END:VCALENDAR
