BEGIN:VCALENDAR
PRODID:-//Microsoft Corporation//Outlook 12.0 MIMEDIR//EN
VERSION:2.0
METHOD:PUBLISH
X-MS-OLK-FORCEINSPECTOROPEN:TRUE
BEGIN:VEVENT
CLASS:PUBLIC
CREATED:20260422T101205Z
DESCRIPTION:Gozd raja!\n\nŽanr: za otroke / for children\n\nLokacija: Kulturni dom Postojna, Postojna\nZačetek: 08.04.2026 ob 10:30\n\nVeč informacij: https://www.kulturnidom-postojna.si/objava/900953
DTSTAMP:20260408T083000Z
DTSTART:20260408T083000Z
LAST-MODIFIED:20260422T101205Z
LOCATION:Kulturni dom Postojna, Postojna
PRIORITY:5
SEQUENCE:0
SUMMARY;LANGUAGE=sl-si:Gozd raja!
TRANSP:OPAQUE
UID:69e882d566be5
X-MICROSOFT-CDO-BUSYSTATUS:BUSY
X-MICROSOFT-CDO-IMPORTANCE:1
X-MICROSOFT-DISALLOW-COUNTER:FALSE
X-MS-OLK-ALLOWEXTERNCHECK:TRUE
X-MS-OLK-AUTOFILLLOCATION:FALSE
X-MS-OLK-CONFTYPE:0
BEGIN:VALARM
TRIGGER:-PT1440M
ACTION:DISPLAY
DESCRIPTION:Opomnik na dogodek
END:VALARM
END:VEVENT
END:VCALENDAR
