BEGIN:VCALENDAR
PRODID:-//Microsoft Corporation//Outlook 12.0 MIMEDIR//EN
VERSION:2.0
METHOD:PUBLISH
X-MS-OLK-FORCEINSPECTOROPEN:TRUE
BEGIN:VEVENT
CLASS:PUBLIC
CREATED:20260422T131248Z
DESCRIPTION:Pihalni orkester Krka\n\nŽanr: popularna / popular\n\nLokacija: KC Janeza Trdine, Novo mesto\nZačetek: 14.04.2026 ob 18:00\n\nVeč informacij: https://kcjt.si/dogodek/pod-taktirko-ustvarjalnosti/
DTSTAMP:20260414T160000Z
DTSTART:20260414T160000Z
LAST-MODIFIED:20260422T131248Z
LOCATION:KC Janeza Trdine, Novo mesto
PRIORITY:5
SEQUENCE:0
SUMMARY;LANGUAGE=sl-si:Pihalni orkester Krka
TRANSP:OPAQUE
UID:69e8ad30905c9
X-MICROSOFT-CDO-BUSYSTATUS:BUSY
X-MICROSOFT-CDO-IMPORTANCE:1
X-MICROSOFT-DISALLOW-COUNTER:FALSE
X-MS-OLK-ALLOWEXTERNCHECK:TRUE
X-MS-OLK-AUTOFILLLOCATION:FALSE
X-MS-OLK-CONFTYPE:0
BEGIN:VALARM
TRIGGER:-PT1440M
ACTION:DISPLAY
DESCRIPTION:Opomnik na dogodek
END:VALARM
END:VEVENT
END:VCALENDAR
