BEGIN:VCALENDAR
PRODID:-//Microsoft Corporation//Outlook 12.0 MIMEDIR//EN
VERSION:2.0
METHOD:PUBLISH
X-MS-OLK-FORCEINSPECTOROPEN:TRUE
BEGIN:VEVENT
CLASS:PUBLIC
CREATED:20260422T101230Z
DESCRIPTION:Trio Gustav\n\nŽanr: klasična / classical\n\nLokacija: Kulturni dom Nova Gorica, Nova Gorica\nZačetek: 20.04.2026 ob 20:15\n\nVeč informacij: https://kulturnidom-ng.si/events/trio-gustav-lorenzo-guzzoni-in-bostjan-lipovsek/
DTSTAMP:20260420T181500Z
DTSTART:20260420T181500Z
LAST-MODIFIED:20260422T101230Z
LOCATION:Kulturni dom Nova Gorica, Nova Gorica
PRIORITY:5
SEQUENCE:0
SUMMARY;LANGUAGE=sl-si:Trio Gustav
TRANSP:OPAQUE
UID:69e882ee151c6
X-MICROSOFT-CDO-BUSYSTATUS:BUSY
X-MICROSOFT-CDO-IMPORTANCE:1
X-MICROSOFT-DISALLOW-COUNTER:FALSE
X-MS-OLK-ALLOWEXTERNCHECK:TRUE
X-MS-OLK-AUTOFILLLOCATION:FALSE
X-MS-OLK-CONFTYPE:0
BEGIN:VALARM
TRIGGER:-PT1440M
ACTION:DISPLAY
DESCRIPTION:Opomnik na dogodek
END:VALARM
END:VEVENT
END:VCALENDAR
