BEGIN:VCALENDAR
PRODID:-//Microsoft Corporation//Outlook 12.0 MIMEDIR//EN
VERSION:2.0
METHOD:PUBLISH
X-MS-OLK-FORCEINSPECTOROPEN:TRUE
BEGIN:VEVENT
CLASS:PUBLIC
CREATED:20260422T131521Z
DESCRIPTION:HELP! A Beatles Tribute\n\nŽanr: popularna / popular\n\nLokacija: Blunout, Domžale\nZačetek: 03.04.2026 ob 21:00\n\nVeč informacij: https://blunout.si/izdelek/koncert-help-a-beatles-tribute-3-4-2026-ob-21ih/
DTSTAMP:20260403T190000Z
DTSTART:20260403T190000Z
LAST-MODIFIED:20260422T131521Z
LOCATION:Blunout, Domžale
PRIORITY:5
SEQUENCE:0
SUMMARY;LANGUAGE=sl-si:HELP! A Beatles Tribute
TRANSP:OPAQUE
UID:69e8adc91580f
X-MICROSOFT-CDO-BUSYSTATUS:BUSY
X-MICROSOFT-CDO-IMPORTANCE:1
X-MICROSOFT-DISALLOW-COUNTER:FALSE
X-MS-OLK-ALLOWEXTERNCHECK:TRUE
X-MS-OLK-AUTOFILLLOCATION:FALSE
X-MS-OLK-CONFTYPE:0
BEGIN:VALARM
TRIGGER:-PT1440M
ACTION:DISPLAY
DESCRIPTION:Opomnik na dogodek
END:VALARM
END:VEVENT
END:VCALENDAR
