BEGIN:VCALENDAR
PRODID:-//Microsoft Corporation//Outlook 12.0 MIMEDIR//EN
VERSION:2.0
METHOD:PUBLISH
X-MS-OLK-FORCEINSPECTOROPEN:TRUE
BEGIN:VEVENT
CLASS:PUBLIC
CREATED:20260422T130836Z
DESCRIPTION:Bobri\n\nŽanr: za otroke / for children\n\nLokacija: Ljubljana\nDatum: 03.04.2026\n\nVeč informacij: https://bobri.si/program/
DTSTAMP:20260403
DTSTART:20260403
LAST-MODIFIED:20260422T130836Z
LOCATION:Ljubljana
PRIORITY:5
SEQUENCE:0
SUMMARY;LANGUAGE=sl-si:Bobri
TRANSP:OPAQUE
UID:69e8ac347721c
X-MICROSOFT-CDO-BUSYSTATUS:BUSY
X-MICROSOFT-CDO-IMPORTANCE:1
X-MICROSOFT-DISALLOW-COUNTER:FALSE
X-MS-OLK-ALLOWEXTERNCHECK:TRUE
X-MS-OLK-AUTOFILLLOCATION:FALSE
X-MS-OLK-CONFTYPE:0
BEGIN:VALARM
TRIGGER:-PT1440M
ACTION:DISPLAY
DESCRIPTION:Opomnik na dogodek
END:VALARM
END:VEVENT
END:VCALENDAR
