BEGIN:VCALENDAR
PRODID:-//Microsoft Corporation//Outlook 12.0 MIMEDIR//EN
VERSION:2.0
METHOD:PUBLISH
X-MS-OLK-FORCEINSPECTOROPEN:TRUE
BEGIN:VEVENT
CLASS:PUBLIC
CREATED:20260422T114423Z
DESCRIPTION:Za Egzija: Shutdown / Pelhan / The Multicentral / DJ Riki\n\nŽanr: popularna / popular\n\nLokacija: Mostovna, Nova Gorica\nDatum: 11.04.2026\n\nVeč informacij: https://www.facebook.com/photo/?fbid=10236778732702802&set=a.10200506546920827
DTSTAMP:20260411
DTSTART:20260411
LAST-MODIFIED:20260422T114423Z
LOCATION:Mostovna, Nova Gorica
PRIORITY:5
SEQUENCE:0
SUMMARY;LANGUAGE=sl-si:Za Egzija: Shutdown / Pelhan / The Multicentral / DJ Riki
TRANSP:OPAQUE
UID:69e89877c4947
X-MICROSOFT-CDO-BUSYSTATUS:BUSY
X-MICROSOFT-CDO-IMPORTANCE:1
X-MICROSOFT-DISALLOW-COUNTER:FALSE
X-MS-OLK-ALLOWEXTERNCHECK:TRUE
X-MS-OLK-AUTOFILLLOCATION:FALSE
X-MS-OLK-CONFTYPE:0
BEGIN:VALARM
TRIGGER:-PT1440M
ACTION:DISPLAY
DESCRIPTION:Opomnik na dogodek
END:VALARM
END:VEVENT
END:VCALENDAR
