BEGIN:VCALENDAR
PRODID:-//Microsoft Corporation//Outlook 12.0 MIMEDIR//EN
VERSION:2.0
METHOD:PUBLISH
X-MS-OLK-FORCEINSPECTOROPEN:TRUE
BEGIN:VEVENT
CLASS:PUBLIC
CREATED:20260422T130953Z
DESCRIPTION:Večer profesorjev Akademije za glasbo\n\nŽanr: jazz\n\nLokacija: Blunout, Domžale\nZačetek: 09.04.2026 ob 20:30\n\nVeč informacij: https://www.facebook.com/events/1399254654842935/
DTSTAMP:20260409T183000Z
DTSTART:20260409T183000Z
LAST-MODIFIED:20260422T130953Z
LOCATION:Blunout, Domžale
PRIORITY:5
SEQUENCE:0
SUMMARY;LANGUAGE=sl-si:Večer profesorjev Akademije za glasbo
TRANSP:OPAQUE
UID:69e8ac81468fb
X-MICROSOFT-CDO-BUSYSTATUS:BUSY
X-MICROSOFT-CDO-IMPORTANCE:1
X-MICROSOFT-DISALLOW-COUNTER:FALSE
X-MS-OLK-ALLOWEXTERNCHECK:TRUE
X-MS-OLK-AUTOFILLLOCATION:FALSE
X-MS-OLK-CONFTYPE:0
BEGIN:VALARM
TRIGGER:-PT1440M
ACTION:DISPLAY
DESCRIPTION:Opomnik na dogodek
END:VALARM
END:VEVENT
END:VCALENDAR
