BEGIN:VCALENDAR
PRODID:-//Microsoft Corporation//Outlook 12.0 MIMEDIR//EN
VERSION:2.0
METHOD:PUBLISH
X-MS-OLK-FORCEINSPECTOROPEN:TRUE
BEGIN:VEVENT
CLASS:PUBLIC
CREATED:20260422T130837Z
DESCRIPTION:J.S.Bach: Pasijon po Mateju\n\nŽanr: klasična / classical\n\nLokacija: Stolna cerkev sv. Janeza Krstnika, Maribor\nZačetek: 01.04.2026 ob 18:00\n\nVeč informacij: https://www.facebook.com/events/1252115267063684
DTSTAMP:20260401T160000Z
DTSTART:20260401T160000Z
LAST-MODIFIED:20260422T130837Z
LOCATION:Stolna cerkev sv. Janeza Krstnika, Maribor
PRIORITY:5
SEQUENCE:0
SUMMARY;LANGUAGE=sl-si:J.S.Bach: Pasijon po Mateju
TRANSP:OPAQUE
UID:69e8ac3576e6b
X-MICROSOFT-CDO-BUSYSTATUS:BUSY
X-MICROSOFT-CDO-IMPORTANCE:1
X-MICROSOFT-DISALLOW-COUNTER:FALSE
X-MS-OLK-ALLOWEXTERNCHECK:TRUE
X-MS-OLK-AUTOFILLLOCATION:FALSE
X-MS-OLK-CONFTYPE:0
BEGIN:VALARM
TRIGGER:-PT1440M
ACTION:DISPLAY
DESCRIPTION:Opomnik na dogodek
END:VALARM
END:VEVENT
END:VCALENDAR
