BEGIN:VCALENDAR
PRODID:-//Microsoft Corporation//Outlook 12.0 MIMEDIR//EN
VERSION:2.0
METHOD:PUBLISH
X-MS-OLK-FORCEINSPECTOROPEN:TRUE
BEGIN:VEVENT
CLASS:PUBLIC
CREATED:20260422T130744Z
DESCRIPTION:Adi Smolar\n\nŽanr: popularna / popular\n\nLokacija: KD Franca Bernika, Domžale\nZačetek: 18.04.2026 ob 19:30\n\nVeč informacij: https://www.kd-domzale.si/news/?date=2026-04-18
DTSTAMP:20260418T173000Z
DTSTART:20260418T173000Z
LAST-MODIFIED:20260422T130744Z
LOCATION:KD Franca Bernika, Domžale
PRIORITY:5
SEQUENCE:0
SUMMARY;LANGUAGE=sl-si:Adi Smolar
TRANSP:OPAQUE
UID:69e8ac0034c85
X-MICROSOFT-CDO-BUSYSTATUS:BUSY
X-MICROSOFT-CDO-IMPORTANCE:1
X-MICROSOFT-DISALLOW-COUNTER:FALSE
X-MS-OLK-ALLOWEXTERNCHECK:TRUE
X-MS-OLK-AUTOFILLLOCATION:FALSE
X-MS-OLK-CONFTYPE:0
BEGIN:VALARM
TRIGGER:-PT1440M
ACTION:DISPLAY
DESCRIPTION:Opomnik na dogodek
END:VALARM
END:VEVENT
END:VCALENDAR
