BEGIN:VCALENDAR
PRODID:-//Microsoft Corporation//Outlook 12.0 MIMEDIR//EN
VERSION:2.0
METHOD:PUBLISH
X-MS-OLK-FORCEINSPECTOROPEN:TRUE
BEGIN:VEVENT
CLASS:PUBLIC
CREATED:20260422T130713Z
DESCRIPTION:Avguštin Miklavčič-kljunasta flavta, Andraž Babšek-orgle\n\nŽanr: klasična / classical\n\nLokacija: Župnijska cerkev sv. Modesta, Kranj - Zlato polje\nZačetek: 25.04.2026 ob 19:45
DTSTAMP:20260425T174500Z
DTSTART:20260425T174500Z
LAST-MODIFIED:20260422T130713Z
LOCATION:Župnijska cerkev sv. Modesta, Kranj - Zlato polje
PRIORITY:5
SEQUENCE:0
SUMMARY;LANGUAGE=sl-si:Avguštin Miklavčič-kljunasta flavta, Andraž Babšek-orgle
TRANSP:OPAQUE
UID:69e8abe1c9f64
X-MICROSOFT-CDO-BUSYSTATUS:BUSY
X-MICROSOFT-CDO-IMPORTANCE:1
X-MICROSOFT-DISALLOW-COUNTER:FALSE
X-MS-OLK-ALLOWEXTERNCHECK:TRUE
X-MS-OLK-AUTOFILLLOCATION:FALSE
X-MS-OLK-CONFTYPE:0
BEGIN:VALARM
TRIGGER:-PT1440M
ACTION:DISPLAY
DESCRIPTION:Opomnik na dogodek
END:VALARM
END:VEVENT
END:VCALENDAR
