BEGIN:VCALENDAR
PRODID:-//Microsoft Corporation//Outlook 12.0 MIMEDIR//EN
VERSION:2.0
METHOD:PUBLISH
X-MS-OLK-FORCEINSPECTOROPEN:TRUE
BEGIN:VEVENT
CLASS:PUBLIC
CREATED:20260422T114020Z
DESCRIPTION:Špil liga\n\nŽanr: popularna / popular\n\nLokacija: CUK Kino Šiška, Ljubljana\nZačetek: 03.04.2026 ob 20:00\n\nVeč informacij: https://www.kinosiska.si/dogodek/spil-liga-1-polfinale-13-sezone/
DTSTAMP:20260403T180000Z
DTSTART:20260403T180000Z
LAST-MODIFIED:20260422T114020Z
LOCATION:CUK Kino Šiška, Ljubljana
PRIORITY:5
SEQUENCE:0
SUMMARY;LANGUAGE=sl-si:Špil liga
TRANSP:OPAQUE
UID:69e897845d2fd
X-MICROSOFT-CDO-BUSYSTATUS:BUSY
X-MICROSOFT-CDO-IMPORTANCE:1
X-MICROSOFT-DISALLOW-COUNTER:FALSE
X-MS-OLK-ALLOWEXTERNCHECK:TRUE
X-MS-OLK-AUTOFILLLOCATION:FALSE
X-MS-OLK-CONFTYPE:0
BEGIN:VALARM
TRIGGER:-PT1440M
ACTION:DISPLAY
DESCRIPTION:Opomnik na dogodek
END:VALARM
END:VEVENT
END:VCALENDAR
