BEGIN:VCALENDAR
PRODID:-//Microsoft Corporation//Outlook 12.0 MIMEDIR//EN
VERSION:2.0
METHOD:PUBLISH
X-MS-OLK-FORCEINSPECTOROPEN:TRUE
BEGIN:VEVENT
CLASS:PUBLIC
CREATED:20260422T100436Z
DESCRIPTION:Pero Defformero\n\nŽanr: popularna / popular\n\nLokacija: Baza 13, Kočevje\nZačetek: 03.04.2026 ob 21:00\n\nVeč informacij: https://www.facebook.com/events/1226964529598872
DTSTAMP:20260403T190000Z
DTSTART:20260403T190000Z
LAST-MODIFIED:20260422T100436Z
LOCATION:Baza 13, Kočevje
PRIORITY:5
SEQUENCE:0
SUMMARY;LANGUAGE=sl-si:Pero Defformero
TRANSP:OPAQUE
UID:69e881140e21b
X-MICROSOFT-CDO-BUSYSTATUS:BUSY
X-MICROSOFT-CDO-IMPORTANCE:1
X-MICROSOFT-DISALLOW-COUNTER:FALSE
X-MS-OLK-ALLOWEXTERNCHECK:TRUE
X-MS-OLK-AUTOFILLLOCATION:FALSE
X-MS-OLK-CONFTYPE:0
BEGIN:VALARM
TRIGGER:-PT1440M
ACTION:DISPLAY
DESCRIPTION:Opomnik na dogodek
END:VALARM
END:VEVENT
END:VCALENDAR
