BEGIN:VCALENDAR
PRODID:-//Microsoft Corporation//Outlook 12.0 MIMEDIR//EN
VERSION:2.0
METHOD:PUBLISH
X-MS-OLK-FORCEINSPECTOROPEN:TRUE
BEGIN:VEVENT
CLASS:PUBLIC
CREATED:20260422T114131Z
DESCRIPTION:Vastum / Torture Rack\n\nŽanr: popularna / popular\n\nLokacija: Channel Zero, Ljubljana\nZačetek: 22.04.2026 ob 20:00\n\nVeč informacij: https://www.ch0.org/vastum-us-torture-rack-us/
DTSTAMP:20260422T180000Z
DTSTART:20260422T180000Z
LAST-MODIFIED:20260422T114131Z
LOCATION:Channel Zero, Ljubljana
PRIORITY:5
SEQUENCE:0
SUMMARY;LANGUAGE=sl-si:Vastum / Torture Rack
TRANSP:OPAQUE
UID:69e897cb3f513
X-MICROSOFT-CDO-BUSYSTATUS:BUSY
X-MICROSOFT-CDO-IMPORTANCE:1
X-MICROSOFT-DISALLOW-COUNTER:FALSE
X-MS-OLK-ALLOWEXTERNCHECK:TRUE
X-MS-OLK-AUTOFILLLOCATION:FALSE
X-MS-OLK-CONFTYPE:0
BEGIN:VALARM
TRIGGER:-PT1440M
ACTION:DISPLAY
DESCRIPTION:Opomnik na dogodek
END:VALARM
END:VEVENT
END:VCALENDAR
