BEGIN:VCALENDAR
PRODID:-//Microsoft Corporation//Outlook 12.0 MIMEDIR//EN
VERSION:2.0
METHOD:PUBLISH
X-MS-OLK-FORCEINSPECTOROPEN:TRUE
BEGIN:VEVENT
CLASS:PUBLIC
CREATED:20260422T130712Z
DESCRIPTION:Džjezz Celje: Tadej's News Forgiveness\n\nŽanr: jazz\n\nLokacija: Plesni forum Celje, Celje\nZačetek: 03.04.2026 ob 20:00\n\nVeč informacij: https://www.facebook.com/events/1243632861221150
DTSTAMP:20260403T180000Z
DTSTART:20260403T180000Z
LAST-MODIFIED:20260422T130712Z
LOCATION:Plesni forum Celje, Celje
PRIORITY:5
SEQUENCE:0
SUMMARY;LANGUAGE=sl-si:Džjezz Celje: Tadej's News Forgiveness
TRANSP:OPAQUE
UID:69e8abe073970
X-MICROSOFT-CDO-BUSYSTATUS:BUSY
X-MICROSOFT-CDO-IMPORTANCE:1
X-MICROSOFT-DISALLOW-COUNTER:FALSE
X-MS-OLK-ALLOWEXTERNCHECK:TRUE
X-MS-OLK-AUTOFILLLOCATION:FALSE
X-MS-OLK-CONFTYPE:0
BEGIN:VALARM
TRIGGER:-PT1440M
ACTION:DISPLAY
DESCRIPTION:Opomnik na dogodek
END:VALARM
END:VEVENT
END:VCALENDAR
