BEGIN:VCALENDAR
PRODID:-//Microsoft Corporation//Outlook 12.0 MIMEDIR//EN
VERSION:2.0
METHOD:PUBLISH
X-MS-OLK-FORCEINSPECTOROPEN:TRUE
BEGIN:VEVENT
CLASS:PUBLIC
CREATED:20260422T100713Z
DESCRIPTION:Zoran Predin in Nikola Čuturilo\n\nŽanr: popularna / popular\n\nLokacija: LokalPatriot, Novo mesto\nZačetek: 11.04.2026 ob 20:30\n\nVeč informacij: https://www.facebook.com/events/1287374929906895/
DTSTAMP:20260411T183000Z
DTSTART:20260411T183000Z
LAST-MODIFIED:20260422T100713Z
LOCATION:LokalPatriot, Novo mesto
PRIORITY:5
SEQUENCE:0
SUMMARY;LANGUAGE=sl-si:Zoran Predin in Nikola Čuturilo
TRANSP:OPAQUE
UID:69e881b15c78f
X-MICROSOFT-CDO-BUSYSTATUS:BUSY
X-MICROSOFT-CDO-IMPORTANCE:1
X-MICROSOFT-DISALLOW-COUNTER:FALSE
X-MS-OLK-ALLOWEXTERNCHECK:TRUE
X-MS-OLK-AUTOFILLLOCATION:FALSE
X-MS-OLK-CONFTYPE:0
BEGIN:VALARM
TRIGGER:-PT1440M
ACTION:DISPLAY
DESCRIPTION:Opomnik na dogodek
END:VALARM
END:VEVENT
END:VCALENDAR
