BEGIN:VCALENDAR
PRODID:-//Microsoft Corporation//Outlook 12.0 MIMEDIR//EN
VERSION:2.0
METHOD:PUBLISH
X-MS-OLK-FORCEINSPECTOROPEN:TRUE
BEGIN:VEVENT
CLASS:PUBLIC
CREATED:20260422T100931Z
DESCRIPTION:Yellow Fleet\n\nŽanr: jazz\n\nLokacija: Vetrinjc - BarCoda, Maribor\nZačetek: 08.04.2026 ob 20:00\n\nVeč informacij: https://www.facebook.com/events/2376080952899413/
DTSTAMP:20260408T180000Z
DTSTART:20260408T180000Z
LAST-MODIFIED:20260422T100931Z
LOCATION:Vetrinjc - BarCoda, Maribor
PRIORITY:5
SEQUENCE:0
SUMMARY;LANGUAGE=sl-si:Yellow Fleet
TRANSP:OPAQUE
UID:69e8823b3636c
X-MICROSOFT-CDO-BUSYSTATUS:BUSY
X-MICROSOFT-CDO-IMPORTANCE:1
X-MICROSOFT-DISALLOW-COUNTER:FALSE
X-MS-OLK-ALLOWEXTERNCHECK:TRUE
X-MS-OLK-AUTOFILLLOCATION:FALSE
X-MS-OLK-CONFTYPE:0
BEGIN:VALARM
TRIGGER:-PT1440M
ACTION:DISPLAY
DESCRIPTION:Opomnik na dogodek
END:VALARM
END:VEVENT
END:VCALENDAR
