BEGIN:VCALENDAR
PRODID:-//Microsoft Corporation//Outlook 12.0 MIMEDIR//EN
VERSION:2.0
METHOD:PUBLISH
X-MS-OLK-FORCEINSPECTOROPEN:TRUE
BEGIN:VEVENT
CLASS:PUBLIC
CREATED:20260422T100824Z
DESCRIPTION:Tribute To Gigi D'Agostino\n\nŽanr: popularna / popular\n\nLokacija: Cvetličarna, Ljubljana\nZačetek: 18.04.2026 ob 22:00\n\nVeč informacij: https://www.facebook.com/events/2067712793798024/
DTSTAMP:20260418T200000Z
DTSTART:20260418T200000Z
LAST-MODIFIED:20260422T100824Z
LOCATION:Cvetličarna, Ljubljana
PRIORITY:5
SEQUENCE:0
SUMMARY;LANGUAGE=sl-si:Tribute To Gigi D'Agostino
TRANSP:OPAQUE
UID:69e881f88d3fa
X-MICROSOFT-CDO-BUSYSTATUS:BUSY
X-MICROSOFT-CDO-IMPORTANCE:1
X-MICROSOFT-DISALLOW-COUNTER:FALSE
X-MS-OLK-ALLOWEXTERNCHECK:TRUE
X-MS-OLK-AUTOFILLLOCATION:FALSE
X-MS-OLK-CONFTYPE:0
BEGIN:VALARM
TRIGGER:-PT1440M
ACTION:DISPLAY
DESCRIPTION:Opomnik na dogodek
END:VALARM
END:VEVENT
END:VCALENDAR
