BEGIN:VCALENDAR
PRODID:-//Microsoft Corporation//Outlook 12.0 MIMEDIR//EN
VERSION:2.0
METHOD:PUBLISH
X-MS-OLK-FORCEINSPECTOROPEN:TRUE
BEGIN:VEVENT
CLASS:PUBLIC
CREATED:20260422T131116Z
DESCRIPTION:Zoran Predin &amp; Slow Monkeys\n\nŽanr: popularna / popular\n\nLokacija: Letni kino ob Škalskem jezeru, Velenje\nZačetek: 18.04.2026 ob 20:00\n\nVeč informacij: https://www.facebook.com/events/1510153593864710/
DTSTAMP:20260418T180000Z
DTSTART:20260418T180000Z
LAST-MODIFIED:20260422T131116Z
LOCATION:Letni kino ob Škalskem jezeru, Velenje
PRIORITY:5
SEQUENCE:0
SUMMARY;LANGUAGE=sl-si:Zoran Predin &amp; Slow Monkeys
TRANSP:OPAQUE
UID:69e8acd49804e
X-MICROSOFT-CDO-BUSYSTATUS:BUSY
X-MICROSOFT-CDO-IMPORTANCE:1
X-MICROSOFT-DISALLOW-COUNTER:FALSE
X-MS-OLK-ALLOWEXTERNCHECK:TRUE
X-MS-OLK-AUTOFILLLOCATION:FALSE
X-MS-OLK-CONFTYPE:0
BEGIN:VALARM
TRIGGER:-PT1440M
ACTION:DISPLAY
DESCRIPTION:Opomnik na dogodek
END:VALARM
END:VEVENT
END:VCALENDAR
