BEGIN:VCALENDAR
PRODID:-//Microsoft Corporation//Outlook 12.0 MIMEDIR//EN
VERSION:2.0
METHOD:PUBLISH
X-MS-OLK-FORCEINSPECTOROPEN:TRUE
BEGIN:VEVENT
CLASS:PUBLIC
CREATED:20260422T100455Z
DESCRIPTION:Zu / Meduzalem\n\nŽanr: popularna / popular\n\nLokacija: MKNŽ, Ilirska Bistrica\nZačetek: 07.04.2026 ob 21:00\n\nVeč informacij: https://mknz.si/events/zu-ita-jazz-math-rock-meduzalem-slo-noise-psych-rock/
DTSTAMP:20260407T190000Z
DTSTART:20260407T190000Z
LAST-MODIFIED:20260422T100455Z
LOCATION:MKNŽ, Ilirska Bistrica
PRIORITY:5
SEQUENCE:0
SUMMARY;LANGUAGE=sl-si:Zu / Meduzalem
TRANSP:OPAQUE
UID:69e88127b9524
X-MICROSOFT-CDO-BUSYSTATUS:BUSY
X-MICROSOFT-CDO-IMPORTANCE:1
X-MICROSOFT-DISALLOW-COUNTER:FALSE
X-MS-OLK-ALLOWEXTERNCHECK:TRUE
X-MS-OLK-AUTOFILLLOCATION:FALSE
X-MS-OLK-CONFTYPE:0
BEGIN:VALARM
TRIGGER:-PT1440M
ACTION:DISPLAY
DESCRIPTION:Opomnik na dogodek
END:VALARM
END:VEVENT
END:VCALENDAR
