BEGIN:VCALENDAR
PRODID:-//Microsoft Corporation//Outlook 12.0 MIMEDIR//EN
VERSION:2.0
METHOD:PUBLISH
X-MS-OLK-FORCEINSPECTOROPEN:TRUE
BEGIN:VEVENT
CLASS:PUBLIC
CREATED:20260422T131155Z
DESCRIPTION:Help! A Beatles tribute\n\nŽanr: popularna / popular\n\nLokacija: Hram kulture Arnolda Tovornika, Selnica ob Dravi\nZačetek: 10.04.2026 ob 20:00\n\nVeč informacij: https://www.facebook.com/events/1255979236488031/
DTSTAMP:20260410T180000Z
DTSTART:20260410T180000Z
LAST-MODIFIED:20260422T131155Z
LOCATION:Hram kulture Arnolda Tovornika, Selnica ob Dravi
PRIORITY:5
SEQUENCE:0
SUMMARY;LANGUAGE=sl-si:Help! A Beatles tribute
TRANSP:OPAQUE
UID:69e8acfb74019
X-MICROSOFT-CDO-BUSYSTATUS:BUSY
X-MICROSOFT-CDO-IMPORTANCE:1
X-MICROSOFT-DISALLOW-COUNTER:FALSE
X-MS-OLK-ALLOWEXTERNCHECK:TRUE
X-MS-OLK-AUTOFILLLOCATION:FALSE
X-MS-OLK-CONFTYPE:0
BEGIN:VALARM
TRIGGER:-PT1440M
ACTION:DISPLAY
DESCRIPTION:Opomnik na dogodek
END:VALARM
END:VEVENT
END:VCALENDAR
