BEGIN:VCALENDAR
PRODID:-//Microsoft Corporation//Outlook 12.0 MIMEDIR//EN
VERSION:2.0
METHOD:PUBLISH
X-MS-OLK-FORCEINSPECTOROPEN:TRUE
BEGIN:VEVENT
CLASS:PUBLIC
CREATED:20260422T100748Z
DESCRIPTION:Glasbeni svetovi socialistične Jugoslavije: Jelka Vukobratić; Popularna glazba 1950-ih u domaćoj diskografiji Jugoslavije\n\nŽanr: predavanja in posveti / lectures and conferences\n\nLokacija: Gosposka dvorana ZRC SAZU, Ljubljana\nZačetek: 08.04.2026 ob 18:00\n\nVeč informacij: https://www.facebook.com/events/1356166003211954/?acontext=%7B%22event_action_history%22%3A[%7B%22extra_data%22%3A%22%22%2C%22mechanism%22%3A%22calendar_tab_event%22%2C%22surface%22%3A%22bookmark_calendar%22%7D%2C%7B%22extra_data%22%3A%22%22%2C%22mechanis
DTSTAMP:20260408T160000Z
DTSTART:20260408T160000Z
LAST-MODIFIED:20260422T100748Z
LOCATION:Gosposka dvorana ZRC SAZU, Ljubljana
PRIORITY:5
SEQUENCE:0
SUMMARY;LANGUAGE=sl-si:Glasbeni svetovi socialistične Jugoslavije: Jelka Vukobratić; Popularna glazba 1950-ih u domaćoj diskografiji Jugoslavije
TRANSP:OPAQUE
UID:69e881d4612b6
X-MICROSOFT-CDO-BUSYSTATUS:BUSY
X-MICROSOFT-CDO-IMPORTANCE:1
X-MICROSOFT-DISALLOW-COUNTER:FALSE
X-MS-OLK-ALLOWEXTERNCHECK:TRUE
X-MS-OLK-AUTOFILLLOCATION:FALSE
X-MS-OLK-CONFTYPE:0
BEGIN:VALARM
TRIGGER:-PT1440M
ACTION:DISPLAY
DESCRIPTION:Opomnik na dogodek
END:VALARM
END:VEVENT
END:VCALENDAR
