BEGIN:VCALENDAR
PRODID:-//Microsoft Corporation//Outlook 12.0 MIMEDIR//EN
VERSION:2.0
METHOD:PUBLISH
X-MS-OLK-FORCEINSPECTOROPEN:TRUE
BEGIN:VEVENT
CLASS:PUBLIC
CREATED:20260422T114642Z
DESCRIPTION:Bo.Senberg / Electric Rastrello\n\nŽanr: popularna / popular\n\nLokacija: Jalla Jalla, Ljubljana\nZačetek: 11.04.2026 ob 21:00\n\nVeč informacij: https://www.facebook.com/jallajalla.akcmetelkova/posts/pfbid0WadVMxJ7B5t3fvnym8hyfAdUixmcV3bFDdy3qp6eWYw2zRM7vyHmdahW8h3GrAREl
DTSTAMP:20260411T190000Z
DTSTART:20260411T190000Z
LAST-MODIFIED:20260422T114642Z
LOCATION:Jalla Jalla, Ljubljana
PRIORITY:5
SEQUENCE:0
SUMMARY;LANGUAGE=sl-si:Bo.Senberg / Electric Rastrello
TRANSP:OPAQUE
UID:69e89902836ff
X-MICROSOFT-CDO-BUSYSTATUS:BUSY
X-MICROSOFT-CDO-IMPORTANCE:1
X-MICROSOFT-DISALLOW-COUNTER:FALSE
X-MS-OLK-ALLOWEXTERNCHECK:TRUE
X-MS-OLK-AUTOFILLLOCATION:FALSE
X-MS-OLK-CONFTYPE:0
BEGIN:VALARM
TRIGGER:-PT1440M
ACTION:DISPLAY
DESCRIPTION:Opomnik na dogodek
END:VALARM
END:VEVENT
END:VCALENDAR
