BEGIN:VCALENDAR
PRODID:-//Microsoft Corporation//Outlook 12.0 MIMEDIR//EN
VERSION:2.0
METHOD:PUBLISH
X-MS-OLK-FORCEINSPECTOROPEN:TRUE
BEGIN:VEVENT
CLASS:PUBLIC
CREATED:20260422T101118Z
DESCRIPTION:U$IŁ / Kormorana /Terra Infra\n\nŽanr: popularna / popular\n\nLokacija: Mladinski kulturni klub Bele krajine MKK, Črnomelj\nZačetek: 11.04.2026 ob 21:00\n\nVeč informacij: https://www.facebook.com/events/795959803555895
DTSTAMP:20260411T190000Z
DTSTART:20260411T190000Z
LAST-MODIFIED:20260422T101118Z
LOCATION:Mladinski kulturni klub Bele krajine MKK, Črnomelj
PRIORITY:5
SEQUENCE:0
SUMMARY;LANGUAGE=sl-si:U$IŁ / Kormorana /Terra Infra
TRANSP:OPAQUE
UID:69e882a6d43e6
X-MICROSOFT-CDO-BUSYSTATUS:BUSY
X-MICROSOFT-CDO-IMPORTANCE:1
X-MICROSOFT-DISALLOW-COUNTER:FALSE
X-MS-OLK-ALLOWEXTERNCHECK:TRUE
X-MS-OLK-AUTOFILLLOCATION:FALSE
X-MS-OLK-CONFTYPE:0
BEGIN:VALARM
TRIGGER:-PT1440M
ACTION:DISPLAY
DESCRIPTION:Opomnik na dogodek
END:VALARM
END:VEVENT
END:VCALENDAR
