BEGIN:VCALENDAR
PRODID:-//Microsoft Corporation//Outlook 12.0 MIMEDIR//EN
VERSION:2.0
METHOD:PUBLISH
X-MS-OLK-FORCEINSPECTOROPEN:TRUE
BEGIN:VEVENT
CLASS:PUBLIC
CREATED:20260422T101018Z
DESCRIPTION:Nevemnevem / My Secret Grind Project\n\nŽanr: popularna / popular\n\nLokacija: Klub Gromka, Ljubljana\nZačetek: 17.04.2026 ob 21:00\n\nVeč informacij: https://www.klubgromka.org/index.php?mode=program&id=6127
DTSTAMP:20260417T190000Z
DTSTART:20260417T190000Z
LAST-MODIFIED:20260422T101018Z
LOCATION:Klub Gromka, Ljubljana
PRIORITY:5
SEQUENCE:0
SUMMARY;LANGUAGE=sl-si:Nevemnevem / My Secret Grind Project
TRANSP:OPAQUE
UID:69e8826a4c59c
X-MICROSOFT-CDO-BUSYSTATUS:BUSY
X-MICROSOFT-CDO-IMPORTANCE:1
X-MICROSOFT-DISALLOW-COUNTER:FALSE
X-MS-OLK-ALLOWEXTERNCHECK:TRUE
X-MS-OLK-AUTOFILLLOCATION:FALSE
X-MS-OLK-CONFTYPE:0
BEGIN:VALARM
TRIGGER:-PT1440M
ACTION:DISPLAY
DESCRIPTION:Opomnik na dogodek
END:VALARM
END:VEVENT
END:VCALENDAR
