BEGIN:VCALENDAR
PRODID:-//Microsoft Corporation//Outlook 12.0 MIMEDIR//EN
VERSION:2.0
METHOD:PUBLISH
X-MS-OLK-FORCEINSPECTOROPEN:TRUE
BEGIN:VEVENT
CLASS:PUBLIC
CREATED:20260422T101150Z
DESCRIPTION:Letni koncert simfoničnega orkestra Akademije za glasbo\n\nŽanr: klasična / classical\n\nLokacija: Cankarjev dom - Gallusova dvorana\nZačetek: 10.04.2026 ob 19:30
DTSTAMP:20260410T173000Z
DTSTART:20260410T173000Z
LAST-MODIFIED:20260422T101150Z
LOCATION:Cankarjev dom - Gallusova dvorana
PRIORITY:5
SEQUENCE:0
SUMMARY;LANGUAGE=sl-si:Letni koncert simfoničnega orkestra Akademije za glasbo
TRANSP:OPAQUE
UID:69e882c66f04e
X-MICROSOFT-CDO-BUSYSTATUS:BUSY
X-MICROSOFT-CDO-IMPORTANCE:1
X-MICROSOFT-DISALLOW-COUNTER:FALSE
X-MS-OLK-ALLOWEXTERNCHECK:TRUE
X-MS-OLK-AUTOFILLLOCATION:FALSE
X-MS-OLK-CONFTYPE:0
BEGIN:VALARM
TRIGGER:-PT1440M
ACTION:DISPLAY
DESCRIPTION:Opomnik na dogodek
END:VALARM
END:VEVENT
END:VCALENDAR
