BEGIN:VCALENDAR
PRODID:-//Microsoft Corporation//Outlook 12.0 MIMEDIR//EN
VERSION:2.0
METHOD:PUBLISH
X-MS-OLK-FORCEINSPECTOROPEN:TRUE
BEGIN:VEVENT
CLASS:PUBLIC
CREATED:20260422T100350Z
DESCRIPTION:Sem glasba, sem mesto (SGSM): Umetnost desetih strun\n\nŽanr: klasična / classical\n\nLokacija: Evangeličanska cerkev Dobrega pastirja Novo mesto\nZačetek: 22.04.2026 ob 19:30\n\nVeč informacij: https://kcjt.si/dogodek/umetnost-desetih-strun/
DTSTAMP:20260422T173000Z
DTSTART:20260422T173000Z
LAST-MODIFIED:20260422T100350Z
LOCATION:Evangeličanska cerkev Dobrega pastirja Novo mesto
PRIORITY:5
SEQUENCE:0
SUMMARY;LANGUAGE=sl-si:Sem glasba, sem mesto (SGSM): Umetnost desetih strun
TRANSP:OPAQUE
UID:69e880e6670fe
X-MICROSOFT-CDO-BUSYSTATUS:BUSY
X-MICROSOFT-CDO-IMPORTANCE:1
X-MICROSOFT-DISALLOW-COUNTER:FALSE
X-MS-OLK-ALLOWEXTERNCHECK:TRUE
X-MS-OLK-AUTOFILLLOCATION:FALSE
X-MS-OLK-CONFTYPE:0
BEGIN:VALARM
TRIGGER:-PT1440M
ACTION:DISPLAY
DESCRIPTION:Opomnik na dogodek
END:VALARM
END:VEVENT
END:VCALENDAR
