BEGIN:VCALENDAR
PRODID:-//Microsoft Corporation//Outlook 12.0 MIMEDIR//EN
VERSION:2.0
METHOD:PUBLISH
X-MS-OLK-FORCEINSPECTOROPEN:TRUE
BEGIN:VEVENT
CLASS:PUBLIC
CREATED:20260422T101056Z
DESCRIPTION:Louie's Cage Percussion\n\nŽanr: klasična / classical\n\nLokacija: Kulturni dom Franca Bernika, Domžale\nZačetek: 22.04.2026 ob 20:00\n\nVeč informacij: https://www.kd-domzale.si/louies-cage-percussion-pure-19-03-2026.html
DTSTAMP:20260422T180000Z
DTSTART:20260422T180000Z
LAST-MODIFIED:20260422T101056Z
LOCATION:Kulturni dom Franca Bernika, Domžale
PRIORITY:5
SEQUENCE:0
SUMMARY;LANGUAGE=sl-si:Louie's Cage Percussion
TRANSP:OPAQUE
UID:69e882906362c
X-MICROSOFT-CDO-BUSYSTATUS:BUSY
X-MICROSOFT-CDO-IMPORTANCE:1
X-MICROSOFT-DISALLOW-COUNTER:FALSE
X-MS-OLK-ALLOWEXTERNCHECK:TRUE
X-MS-OLK-AUTOFILLLOCATION:FALSE
X-MS-OLK-CONFTYPE:0
BEGIN:VALARM
TRIGGER:-PT1440M
ACTION:DISPLAY
DESCRIPTION:Opomnik na dogodek
END:VALARM
END:VEVENT
END:VCALENDAR
