BEGIN:VCALENDAR
PRODID:-//Microsoft Corporation//Outlook 12.0 MIMEDIR//EN
VERSION:2.0
METHOD:PUBLISH
X-MS-OLK-FORCEINSPECTOROPEN:TRUE
BEGIN:VEVENT
CLASS:PUBLIC
CREATED:20260422T114841Z
DESCRIPTION:BibaMica na koncertu\n\nŽanr: za otroke / for children\n\nLokacija: Kultuni dom Franca Bernika, Domžale\nZačetek: 18.04.2026 ob 10:00\n\nVeč informacij: https://www.kd-domzale.si/bibamica-na-koncertu-19-03-2026.html
DTSTAMP:20260418T080000Z
DTSTART:20260418T080000Z
LAST-MODIFIED:20260422T114841Z
LOCATION:Kultuni dom Franca Bernika, Domžale
PRIORITY:5
SEQUENCE:0
SUMMARY;LANGUAGE=sl-si:BibaMica na koncertu
TRANSP:OPAQUE
UID:69e8997974174
X-MICROSOFT-CDO-BUSYSTATUS:BUSY
X-MICROSOFT-CDO-IMPORTANCE:1
X-MICROSOFT-DISALLOW-COUNTER:FALSE
X-MS-OLK-ALLOWEXTERNCHECK:TRUE
X-MS-OLK-AUTOFILLLOCATION:FALSE
X-MS-OLK-CONFTYPE:0
BEGIN:VALARM
TRIGGER:-PT1440M
ACTION:DISPLAY
DESCRIPTION:Opomnik na dogodek
END:VALARM
END:VEVENT
END:VCALENDAR
