BEGIN:VCALENDAR
PRODID:-//Microsoft Corporation//Outlook 12.0 MIMEDIR//EN
VERSION:2.0
METHOD:PUBLISH
X-MS-OLK-FORCEINSPECTOROPEN:TRUE
BEGIN:VEVENT
CLASS:PUBLIC
CREATED:20260422T101110Z
DESCRIPTION:Ridota / Peach Pit\n\nŽanr: popularna / popular\n\nLokacija: Kulturni dom ŽeleznikI, Železniki\nDatum: 18.04.2026
DTSTAMP:20260418
DTSTART:20260418
LAST-MODIFIED:20260422T101110Z
LOCATION:Kulturni dom ŽeleznikI, Železniki
PRIORITY:5
SEQUENCE:0
SUMMARY;LANGUAGE=sl-si:Ridota / Peach Pit
TRANSP:OPAQUE
UID:69e8829e11636
X-MICROSOFT-CDO-BUSYSTATUS:BUSY
X-MICROSOFT-CDO-IMPORTANCE:1
X-MICROSOFT-DISALLOW-COUNTER:FALSE
X-MS-OLK-ALLOWEXTERNCHECK:TRUE
X-MS-OLK-AUTOFILLLOCATION:FALSE
X-MS-OLK-CONFTYPE:0
BEGIN:VALARM
TRIGGER:-PT1440M
ACTION:DISPLAY
DESCRIPTION:Opomnik na dogodek
END:VALARM
END:VEVENT
END:VCALENDAR
