BEGIN:VCALENDAR
PRODID:-//Microsoft Corporation//Outlook 12.0 MIMEDIR//EN
VERSION:2.0
METHOD:PUBLISH
X-MS-OLK-FORCEINSPECTOROPEN:TRUE
BEGIN:VEVENT
CLASS:PUBLIC
CREATED:20260422T144815Z
DESCRIPTION:DBŠ Fest: Vlado Kreslin &amp; Malimi bogovi / Kokosy\n\nŽanr: popularna / popular\n\nLokacija: Mladinski center Brežice, Brežice\nZačetek: 24.04.2026 ob 20:00\n\nVeč informacij: https://www.facebook.com/events/1434940964828566/
DTSTAMP:20260424T180000Z
DTSTART:20260424T180000Z
LAST-MODIFIED:20260422T144815Z
LOCATION:Mladinski center Brežice, Brežice
PRIORITY:5
SEQUENCE:0
SUMMARY;LANGUAGE=sl-si:DBŠ Fest: Vlado Kreslin &amp; Malimi bogovi / Kokosy
TRANSP:OPAQUE
UID:69e8c38fca0b6
X-MICROSOFT-CDO-BUSYSTATUS:BUSY
X-MICROSOFT-CDO-IMPORTANCE:1
X-MICROSOFT-DISALLOW-COUNTER:FALSE
X-MS-OLK-ALLOWEXTERNCHECK:TRUE
X-MS-OLK-AUTOFILLLOCATION:FALSE
X-MS-OLK-CONFTYPE:0
BEGIN:VALARM
TRIGGER:-PT1440M
ACTION:DISPLAY
DESCRIPTION:Opomnik na dogodek
END:VALARM
END:VEVENT
END:VCALENDAR
