BEGIN:VCALENDAR
PRODID:-//Microsoft Corporation//Outlook 12.0 MIMEDIR//EN
VERSION:2.0
METHOD:PUBLISH
X-MS-OLK-FORCEINSPECTOROPEN:TRUE
BEGIN:VEVENT
CLASS:PUBLIC
CREATED:20260422T100831Z
DESCRIPTION:Cankarjevi torki: Harmelogic feat. Zhivko Vasilev\n\nŽanr: etno in glasbe sveta / world music\n\nLokacija: Cankarjev dom, Ljubljana\nZačetek: 07.04.2026 ob 19:30\n\nVeč informacij: https://www.cd-cc.si/kultura/glasba/harmelogic-feat-zhivko-vasilev
DTSTAMP:20260407T173000Z
DTSTART:20260407T173000Z
LAST-MODIFIED:20260422T100831Z
LOCATION:Cankarjev dom, Ljubljana
PRIORITY:5
SEQUENCE:0
SUMMARY;LANGUAGE=sl-si:Cankarjevi torki: Harmelogic feat. Zhivko Vasilev
TRANSP:OPAQUE
UID:69e881ff4a312
X-MICROSOFT-CDO-BUSYSTATUS:BUSY
X-MICROSOFT-CDO-IMPORTANCE:1
X-MICROSOFT-DISALLOW-COUNTER:FALSE
X-MS-OLK-ALLOWEXTERNCHECK:TRUE
X-MS-OLK-AUTOFILLLOCATION:FALSE
X-MS-OLK-CONFTYPE:0
BEGIN:VALARM
TRIGGER:-PT1440M
ACTION:DISPLAY
DESCRIPTION:Opomnik na dogodek
END:VALARM
END:VEVENT
END:VCALENDAR
