BEGIN:VCALENDAR
PRODID:-//Microsoft Corporation//Outlook 12.0 MIMEDIR//EN
VERSION:2.0
METHOD:PUBLISH
X-MS-OLK-FORCEINSPECTOROPEN:TRUE
BEGIN:VEVENT
CLASS:PUBLIC
CREATED:20260422T114543Z
DESCRIPTION:Cankarjevi torki: Carola Ortiz Duo / Pipo Romero Duo\n\nŽanr: etno in glasbe sveta / world music\n\nLokacija: Cankarjev dom, Ljubljana\nZačetek: 14.04.2026 ob 19:30\n\nVeč informacij: https://www.cd-cc.si/kultura/glasba/carola-ortiz-duo-in-pipo-romero-duo
DTSTAMP:20260414T173000Z
DTSTART:20260414T173000Z
LAST-MODIFIED:20260422T114543Z
LOCATION:Cankarjev dom, Ljubljana
PRIORITY:5
SEQUENCE:0
SUMMARY;LANGUAGE=sl-si:Cankarjevi torki: Carola Ortiz Duo / Pipo Romero Duo
TRANSP:OPAQUE
UID:69e898c7652f6
X-MICROSOFT-CDO-BUSYSTATUS:BUSY
X-MICROSOFT-CDO-IMPORTANCE:1
X-MICROSOFT-DISALLOW-COUNTER:FALSE
X-MS-OLK-ALLOWEXTERNCHECK:TRUE
X-MS-OLK-AUTOFILLLOCATION:FALSE
X-MS-OLK-CONFTYPE:0
BEGIN:VALARM
TRIGGER:-PT1440M
ACTION:DISPLAY
DESCRIPTION:Opomnik na dogodek
END:VALARM
END:VEVENT
END:VCALENDAR
