BEGIN:VCALENDAR
PRODID:-//Microsoft Corporation//Outlook 12.0 MIMEDIR//EN
VERSION:2.0
METHOD:PUBLISH
X-MS-OLK-FORCEINSPECTOROPEN:TRUE
BEGIN:VEVENT
CLASS:PUBLIC
CREATED:20260422T131153Z
DESCRIPTION:The Boojums / Long Dumb Voices\n\nŽanr: popularna / popular\n\nLokacija: Gala hala, Ljubljana\nZačetek: 14.04.2026 ob 20:00\n\nVeč informacij: https://www.galahala.com/arhiv/the-boojums-can-long-dumb-voices-si/32904/
DTSTAMP:20260414T180000Z
DTSTART:20260414T180000Z
LAST-MODIFIED:20260422T131153Z
LOCATION:Gala hala, Ljubljana
PRIORITY:5
SEQUENCE:0
SUMMARY;LANGUAGE=sl-si:The Boojums / Long Dumb Voices
TRANSP:OPAQUE
UID:69e8acf9258a5
X-MICROSOFT-CDO-BUSYSTATUS:BUSY
X-MICROSOFT-CDO-IMPORTANCE:1
X-MICROSOFT-DISALLOW-COUNTER:FALSE
X-MS-OLK-ALLOWEXTERNCHECK:TRUE
X-MS-OLK-AUTOFILLLOCATION:FALSE
X-MS-OLK-CONFTYPE:0
BEGIN:VALARM
TRIGGER:-PT1440M
ACTION:DISPLAY
DESCRIPTION:Opomnik na dogodek
END:VALARM
END:VEVENT
END:VCALENDAR
